BEGIN:VCALENDAR
VERSION:2.0
PRODID: -//Q4 Inc.//EN
METHOD:PUBLISH
BEGIN:VTIMEZONE
TZID:America/New_York
X-LIC-LOCATION:America/New_York
BEGIN:DAYLIGHT
TZOFFSETFROM:-0500
TZOFFSETTO:-0400
TZNAME:EDT
DTSTART:19700308T020000
RRULE:FREQ=YEARLY;BYMONTH=3;BYDAY=2SU
END:DAYLIGHT
BEGIN:STANDARD
TZOFFSETFROM:-0400
TZOFFSETTO:-0500
TZNAME:EST
DTSTART:19701101T020000
RRULE:FREQ=YEARLY;BYMONTH=11;BYDAY=1SU
END:STANDARD
END:VTIMEZONE
BEGIN:VEVENT
ORGANIZER:MAILTO:investor@yamana.com
DTSTART;TZID="America/New_York":20220218T090000
DTEND;TZID="America/New_York":20220218T100000
LOCATION:
UID:e5bad4da-1ff6-424a-ab1a-e5a85aaf9664
DTSTAMP:20260422T124115
SUMMARY:Conférence téléphonique et webdiffusion des résultats du quatrième trimestre et de l’exercice financier 2021
DESCRIPTION: View More Information: https://www.yamana.com/French/investisseurs/evenements-et-presentations/event-details/2022/Confrence-tlphonique-et-webdiffusion-des-rsultats-du-quatrime-trimestre-et-de-lexercice-financier-2021/default.aspx
URL;VALUE=URI:https://www.yamana.com/French/investisseurs/evenements-et-presentations/event-details/2022/Confrence-tlphonique-et-webdiffusion-des-rsultats-du-quatrime-trimestre-et-de-lexercice-financier-2021/default.aspx
PRIORITY:5
CLASS:PUBLIC
END:VEVENT
END:VCALENDAR
